BEGIN:VCALENDAR
VERSION:2.0
PRODID:-//Goldgrube//myauktion.com//AT
CALSCALE:GREGORIAN
BEGIN:VEVENT
DTSTART:20260507T102800
DTEND:20260507T102830
LOCATION:Gewerbepark 13, 8562 Mooskirchen
DTSTAMP:20260423T153049
SUMMARY:MyAuktion: Ablauf Artikel Nr. 837202 H&M Move Trainings Pants
URL;VALUE=URI:https://www.myauktion.com/versteigerung7655-position2442181-h-38m-move-trainings-pants.php
DESCRIPTION:Größe XL
UID:myauktion-7655-2442181
BEGIN:VALARM
ACTION:DISPLAY
DESCRIPTION:Größe XL
TRIGGER:-PT10M
END:VALARM
END:VEVENT
END:VCALENDAR