BEGIN:VCALENDAR
VERSION:2.0
PRODID:-//Goldgrube//myauktion.com//AT
CALSCALE:GREGORIAN
BEGIN:VEVENT
DTSTART:20260507T103000
DTEND:20260507T103030
LOCATION:Gewerbepark 13, 8562 Mooskirchen
DTSTAMP:20260423T165938
SUMMARY:MyAuktion: Ablauf Artikel Nr. 837204 Mango Schlupfhose 
URL;VALUE=URI:https://www.myauktion.com/versteigerung7655-position2442183-mango-schlupfhose.php
DESCRIPTION:Größe XL
UID:myauktion-7655-2442183
BEGIN:VALARM
ACTION:DISPLAY
DESCRIPTION:Größe XL
TRIGGER:-PT10M
END:VALARM
END:VEVENT
END:VCALENDAR