BEGIN:VCALENDAR
VERSION:2.0
PRODID:-//Goldgrube//myauktion.com//AT
CALSCALE:GREGORIAN
BEGIN:VEVENT
DTSTART:20260507T103200
DTEND:20260507T103230
LOCATION:Gewerbepark 13, 8562 Mooskirchen
DTSTAMP:20260423T165937
SUMMARY:MyAuktion: Ablauf Artikel Nr. 837206 Wolff Top
URL;VALUE=URI:https://www.myauktion.com/versteigerung7655-position2442185-wolff-top.php
DESCRIPTION:Größe 38
UID:myauktion-7655-2442185
BEGIN:VALARM
ACTION:DISPLAY
DESCRIPTION:Größe 38
TRIGGER:-PT10M
END:VALARM
END:VEVENT
END:VCALENDAR