BEGIN:VCALENDAR
VERSION:2.0
PRODID:-//Goldgrube//myauktion.com//AT
CALSCALE:GREGORIAN
BEGIN:VEVENT
DTSTART:20260507T103300
DTEND:20260507T103330
LOCATION:Gewerbepark 13, 8562 Mooskirchen
DTSTAMP:20260423T153046
SUMMARY:MyAuktion: Ablauf Artikel Nr. 837207 Bonbrix Swimwear 
URL;VALUE=URI:https://www.myauktion.com/versteigerung7655-position2442186-bonbrix-swimwear.php
DESCRIPTION:Größe 46
UID:myauktion-7655-2442186
BEGIN:VALARM
ACTION:DISPLAY
DESCRIPTION:Größe 46
TRIGGER:-PT10M
END:VALARM
END:VEVENT
END:VCALENDAR