BEGIN:VCALENDAR
VERSION:2.0
PRODID:-//Goldgrube//myauktion.com//AT
CALSCALE:GREGORIAN
BEGIN:VEVENT
DTSTART:20260507T103400
DTEND:20260507T103430
LOCATION:Gewerbepark 13, 8562 Mooskirchen
DTSTAMP:20260423T153044
SUMMARY:MyAuktion: Ablauf Artikel Nr. 837208 Halara Sport Top
URL;VALUE=URI:https://www.myauktion.com/versteigerung7655-position2442187-halara-sport-top.php
DESCRIPTION:Größe M
UID:myauktion-7655-2442187
BEGIN:VALARM
ACTION:DISPLAY
DESCRIPTION:Größe M
TRIGGER:-PT10M
END:VALARM
END:VEVENT
END:VCALENDAR