BEGIN:VCALENDAR
VERSION:2.0
PRODID:-//Goldgrube//myauktion.com//AT
CALSCALE:GREGORIAN
BEGIN:VEVENT
DTSTART:20260507T103600
DTEND:20260507T103630
LOCATION:Gewerbepark 13, 8562 Mooskirchen
DTSTAMP:20260423T153047
SUMMARY:MyAuktion: Ablauf Artikel Nr. 837210 Gymshark ripped Sports Bra
URL;VALUE=URI:https://www.myauktion.com/versteigerung7655-position2442189-gymshark-ripped-sports-bra.php
DESCRIPTION:Größe XL
UID:myauktion-7655-2442189
BEGIN:VALARM
ACTION:DISPLAY
DESCRIPTION:Größe XL
TRIGGER:-PT10M
END:VALARM
END:VEVENT
END:VCALENDAR