BEGIN:VCALENDAR
VERSION:2.0
PRODID:-//Goldgrube//myauktion.com//AT
CALSCALE:GREGORIAN
BEGIN:VEVENT
DTSTART:20260507T104000
DTEND:20260507T104030
LOCATION:Gewerbepark 13, 8562 Mooskirchen
DTSTAMP:20260423T153044
SUMMARY:MyAuktion: Ablauf Artikel Nr. 837214 Ulla Popken Oberteil 
URL;VALUE=URI:https://www.myauktion.com/versteigerung7655-position2442193-ulla-popken-oberteil.php
DESCRIPTION:Größe 54
UID:myauktion-7655-2442193
BEGIN:VALARM
ACTION:DISPLAY
DESCRIPTION:Größe 54
TRIGGER:-PT10M
END:VALARM
END:VEVENT
END:VCALENDAR