BEGIN:VCALENDAR
VERSION:2.0
PRODID:-//Goldgrube//myauktion.com//AT
CALSCALE:GREGORIAN
BEGIN:VEVENT
DTSTART:20260507T104200
DTEND:20260507T104230
LOCATION:Gewerbepark 13, 8562 Mooskirchen
DTSTAMP:20260423T165935
SUMMARY:MyAuktion: Ablauf Artikel Nr. 837216 Halara Kleid 
URL;VALUE=URI:https://www.myauktion.com/versteigerung7655-position2442195-halara-kleid.php
DESCRIPTION:Größe XL
UID:myauktion-7655-2442195
BEGIN:VALARM
ACTION:DISPLAY
DESCRIPTION:Größe XL
TRIGGER:-PT10M
END:VALARM
END:VEVENT
END:VCALENDAR