BEGIN:VCALENDAR
VERSION:2.0
PRODID:-//Goldgrube//myauktion.com//AT
CALSCALE:GREGORIAN
BEGIN:VEVENT
DTSTART:20260507T104300
DTEND:20260507T104330
LOCATION:Gewerbepark 13, 8562 Mooskirchen
DTSTAMP:20260423T153049
SUMMARY:MyAuktion: Ablauf Artikel Nr. 837217 Nike Shirt oversized 
URL;VALUE=URI:https://www.myauktion.com/versteigerung7655-position2442196-nike-shirt-oversized.php
DESCRIPTION:Größe S
UID:myauktion-7655-2442196
BEGIN:VALARM
ACTION:DISPLAY
DESCRIPTION:Größe S
TRIGGER:-PT10M
END:VALARM
END:VEVENT
END:VCALENDAR