BEGIN:VCALENDAR
VERSION:2.0
PRODID:-//Goldgrube//myauktion.com//AT
CALSCALE:GREGORIAN
BEGIN:VEVENT
DTSTART:20260507T104700
DTEND:20260507T104730
LOCATION:Gewerbepark 13, 8562 Mooskirchen
DTSTAMP:20260423T153105
SUMMARY:MyAuktion: Ablauf Artikel Nr. 837221 H&M Shirt 
URL;VALUE=URI:https://www.myauktion.com/versteigerung7655-position2442200-h-38m-shirt.php
DESCRIPTION:Größe M
UID:myauktion-7655-2442200
BEGIN:VALARM
ACTION:DISPLAY
DESCRIPTION:Größe M
TRIGGER:-PT10M
END:VALARM
END:VEVENT
END:VCALENDAR