BEGIN:VCALENDAR
VERSION:2.0
PRODID:-//Goldgrube//myauktion.com//AT
CALSCALE:GREGORIAN
BEGIN:VEVENT
DTSTART:20260507T104800
DTEND:20260507T104830
LOCATION:Gewerbepark 13, 8562 Mooskirchen
DTSTAMP:20260423T153057
SUMMARY:MyAuktion: Ablauf Artikel Nr. 837222 Q S by S Oliver Jeans 
URL;VALUE=URI:https://www.myauktion.com/versteigerung7655-position2442201-q-s-by-s-oliver-jeans.php
DESCRIPTION:Größe 44/30
UID:myauktion-7655-2442201
BEGIN:VALARM
ACTION:DISPLAY
DESCRIPTION:Größe 44/30
TRIGGER:-PT10M
END:VALARM
END:VEVENT
END:VCALENDAR