BEGIN:VCALENDAR
VERSION:2.0
PRODID:-//Goldgrube//myauktion.com//AT
CALSCALE:GREGORIAN
BEGIN:VEVENT
DTSTART:20260507T104900
DTEND:20260507T104930
LOCATION:Gewerbepark 13, 8562 Mooskirchen
DTSTAMP:20260423T165937
SUMMARY:MyAuktion: Ablauf Artikel Nr. 837223 Next Oberteil long
URL;VALUE=URI:https://www.myauktion.com/versteigerung7655-position2442202-next-oberteil-long.php
DESCRIPTION:Größe 42
UID:myauktion-7655-2442202
BEGIN:VALARM
ACTION:DISPLAY
DESCRIPTION:Größe 42
TRIGGER:-PT10M
END:VALARM
END:VEVENT
END:VCALENDAR