BEGIN:VCALENDAR
VERSION:2.0
PRODID:-//Goldgrube//myauktion.com//AT
CALSCALE:GREGORIAN
BEGIN:VEVENT
DTSTART:20260507T105200
DTEND:20260507T105230
LOCATION:Gewerbepark 13, 8562 Mooskirchen
DTSTAMP:20260423T165939
SUMMARY:MyAuktion: Ablauf Artikel Nr. 837226 Nike Socken 
URL;VALUE=URI:https://www.myauktion.com/versteigerung7655-position2442205-nike-socken.php
DESCRIPTION:Größe nicht ersichtlich 
UID:myauktion-7655-2442205
BEGIN:VALARM
ACTION:DISPLAY
DESCRIPTION:Größe nicht ersichtlich 
TRIGGER:-PT10M
END:VALARM
END:VEVENT
END:VCALENDAR