BEGIN:VCALENDAR
VERSION:2.0
PRODID:-//Goldgrube//myauktion.com//AT
CALSCALE:GREGORIAN
BEGIN:VEVENT
DTSTART:20260507T105700
DTEND:20260507T105730
LOCATION:Gewerbepark 13, 8562 Mooskirchen
DTSTAMP:20260423T165942
SUMMARY:MyAuktion: Ablauf Artikel Nr. 837229 Only TOP
URL;VALUE=URI:https://www.myauktion.com/versteigerung7655-position2442210-only-top.php
DESCRIPTION:Größe XL
UID:myauktion-7655-2442210
BEGIN:VALARM
ACTION:DISPLAY
DESCRIPTION:Größe XL
TRIGGER:-PT10M
END:VALARM
END:VEVENT
END:VCALENDAR