BEGIN:VCALENDAR
VERSION:2.0
PRODID:-//Goldgrube//myauktion.com//AT
CALSCALE:GREGORIAN
BEGIN:VEVENT
DTSTART:20260507T105800
DTEND:20260507T105830
LOCATION:Gewerbepark 13, 8562 Mooskirchen
DTSTAMP:20260423T165941
SUMMARY:MyAuktion: Ablauf Artikel Nr. 837230 Adl Hose 
URL;VALUE=URI:https://www.myauktion.com/versteigerung7655-position2442211-adl-hose.php
DESCRIPTION:Größe XS
UID:myauktion-7655-2442211
BEGIN:VALARM
ACTION:DISPLAY
DESCRIPTION:Größe XS
TRIGGER:-PT10M
END:VALARM
END:VEVENT
END:VCALENDAR