BEGIN:VCALENDAR
VERSION:2.0
PRODID:-//Goldgrube//myauktion.com//AT
CALSCALE:GREGORIAN
BEGIN:VEVENT
DTSTART:20260507T110600
DTEND:20260507T110630
LOCATION:Gewerbepark 13, 8562 Mooskirchen
DTSTAMP:20260423T153104
SUMMARY:MyAuktion: Ablauf Artikel Nr. 837238 Halara 3/4 Leggings
URL;VALUE=URI:https://www.myauktion.com/versteigerung7655-position2442219-halara-3-4-leggings.php
DESCRIPTION:Größe Xl 
UID:myauktion-7655-2442219
BEGIN:VALARM
ACTION:DISPLAY
DESCRIPTION:Größe Xl 
TRIGGER:-PT10M
END:VALARM
END:VEVENT
END:VCALENDAR