BEGIN:VCALENDAR
VERSION:2.0
PRODID:-//Goldgrube//myauktion.com//AT
CALSCALE:GREGORIAN
BEGIN:VEVENT
DTSTART:20260507T110700
DTEND:20260507T110730
LOCATION:Gewerbepark 13, 8562 Mooskirchen
DTSTAMP:20260423T165942
SUMMARY:MyAuktion: Ablauf Artikel Nr. 837239 Ulla Popken Longbluse 
URL;VALUE=URI:https://www.myauktion.com/versteigerung7655-position2442220-ulla-popken-longbluse.php
DESCRIPTION:Größe 42
UID:myauktion-7655-2442220
BEGIN:VALARM
ACTION:DISPLAY
DESCRIPTION:Größe 42
TRIGGER:-PT10M
END:VALARM
END:VEVENT
END:VCALENDAR