BEGIN:VCALENDAR
VERSION:2.0
PRODID:-//Goldgrube//myauktion.com//AT
CALSCALE:GREGORIAN
BEGIN:VEVENT
DTSTART:20260507T111000
DTEND:20260507T111030
LOCATION:Gewerbepark 13, 8562 Mooskirchen
DTSTAMP:20260423T165943
SUMMARY:MyAuktion: Ablauf Artikel Nr. 837242 Zara Bluse oversized 
URL;VALUE=URI:https://www.myauktion.com/versteigerung7655-position2442223-zara-bluse-oversized.php
DESCRIPTION:Größe XS-S
UID:myauktion-7655-2442223
BEGIN:VALARM
ACTION:DISPLAY
DESCRIPTION:Größe XS-S
TRIGGER:-PT10M
END:VALARM
END:VEVENT
END:VCALENDAR