BEGIN:VCALENDAR
VERSION:2.0
PRODID:-//Goldgrube//myauktion.com//AT
CALSCALE:GREGORIAN
BEGIN:VEVENT
DTSTART:20260507T111200
DTEND:20260507T111230
LOCATION:Gewerbepark 13, 8562 Mooskirchen
DTSTAMP:20260423T165941
SUMMARY:MyAuktion: Ablauf Artikel Nr. 837244 Boohoo Oberteil 
URL;VALUE=URI:https://www.myauktion.com/versteigerung7655-position2442225-boohoo-oberteil.php
DESCRIPTION:Größe 36
UID:myauktion-7655-2442225
BEGIN:VALARM
ACTION:DISPLAY
DESCRIPTION:Größe 36
TRIGGER:-PT10M
END:VALARM
END:VEVENT
END:VCALENDAR