BEGIN:VCALENDAR
VERSION:2.0
PRODID:-//Goldgrube//myauktion.com//AT
CALSCALE:GREGORIAN
BEGIN:VEVENT
DTSTART:20260507T111300
DTEND:20260507T111330
LOCATION:Gewerbepark 13, 8562 Mooskirchen
DTSTAMP:20260423T165942
SUMMARY:MyAuktion: Ablauf Artikel Nr. 837245 Halara Jeans 
URL;VALUE=URI:https://www.myauktion.com/versteigerung7655-position2442226-halara-jeans.php
DESCRIPTION:Größe M
UID:myauktion-7655-2442226
BEGIN:VALARM
ACTION:DISPLAY
DESCRIPTION:Größe M
TRIGGER:-PT10M
END:VALARM
END:VEVENT
END:VCALENDAR