BEGIN:VCALENDAR
VERSION:2.0
PRODID:-//Goldgrube//myauktion.com//AT
CALSCALE:GREGORIAN
BEGIN:VEVENT
DTSTART:20260507T111800
DTEND:20260507T111830
LOCATION:Gewerbepark 13, 8562 Mooskirchen
DTSTAMP:20260423T165941
SUMMARY:MyAuktion: Ablauf Artikel Nr. 837250 Arket Bluse
URL;VALUE=URI:https://www.myauktion.com/versteigerung7655-position2442231-arket-bluse.php
DESCRIPTION:Größe 36
UID:myauktion-7655-2442231
BEGIN:VALARM
ACTION:DISPLAY
DESCRIPTION:Größe 36
TRIGGER:-PT10M
END:VALARM
END:VEVENT
END:VCALENDAR