BEGIN:VCALENDAR
VERSION:2.0
PRODID:-//Goldgrube//myauktion.com//AT
CALSCALE:GREGORIAN
BEGIN:VEVENT
DTSTART:20260507T112100
DTEND:20260507T112130
LOCATION:Gewerbepark 13, 8562 Mooskirchen
DTSTAMP:20260423T165943
SUMMARY:MyAuktion: Ablauf Artikel Nr. 837253 Rodier Strandkleid 
URL;VALUE=URI:https://www.myauktion.com/versteigerung7655-position2442234-rodier-strandkleid.php
DESCRIPTION:Größe L/XL
UID:myauktion-7655-2442234
BEGIN:VALARM
ACTION:DISPLAY
DESCRIPTION:Größe L/XL
TRIGGER:-PT10M
END:VALARM
END:VEVENT
END:VCALENDAR