BEGIN:VCALENDAR
VERSION:2.0
PRODID:-//Goldgrube//myauktion.com//AT
CALSCALE:GREGORIAN
BEGIN:VEVENT
DTSTART:20260507T112500
DTEND:20260507T112530
LOCATION:Gewerbepark 13, 8562 Mooskirchen
DTSTAMP:20260423T153105
SUMMARY:MyAuktion: Ablauf Artikel Nr. 837257 Gina Benotti Kleid 
URL;VALUE=URI:https://www.myauktion.com/versteigerung7655-position2442238-gina-benotti-kleid.php
DESCRIPTION:Größe 36/38
UID:myauktion-7655-2442238
BEGIN:VALARM
ACTION:DISPLAY
DESCRIPTION:Größe 36/38
TRIGGER:-PT10M
END:VALARM
END:VEVENT
END:VCALENDAR