BEGIN:VCALENDAR
VERSION:2.0
PRODID:-//Goldgrube//myauktion.com//AT
CALSCALE:GREGORIAN
BEGIN:VEVENT
DTSTART:20260507T112600
DTEND:20260507T112630
LOCATION:Gewerbepark 13, 8562 Mooskirchen
DTSTAMP:20260423T165943
SUMMARY:MyAuktion: Ablauf Artikel Nr. 837258 Tom Tailor Shirt 
URL;VALUE=URI:https://www.myauktion.com/versteigerung7655-position2442239-tom-tailor-shirt.php
DESCRIPTION:Größe XS
UID:myauktion-7655-2442239
BEGIN:VALARM
ACTION:DISPLAY
DESCRIPTION:Größe XS
TRIGGER:-PT10M
END:VALARM
END:VEVENT
END:VCALENDAR