BEGIN:VCALENDAR
VERSION:2.0
PRODID:-//Goldgrube//myauktion.com//AT
CALSCALE:GREGORIAN
BEGIN:VEVENT
DTSTART:20260507T113500
DTEND:20260507T113530
LOCATION:Gewerbepark 13, 8562 Mooskirchen
DTSTAMP:20260423T153048
SUMMARY:MyAuktion: Ablauf Artikel Nr. 837267 Gilly Hicks Skirt
URL;VALUE=URI:https://www.myauktion.com/versteigerung7655-position2442248-gilly-hicks-skirt.php
DESCRIPTION:Größe M
UID:myauktion-7655-2442248
BEGIN:VALARM
ACTION:DISPLAY
DESCRIPTION:Größe M
TRIGGER:-PT10M
END:VALARM
END:VEVENT
END:VCALENDAR