BEGIN:VCALENDAR
VERSION:2.0
PRODID:-//Goldgrube//myauktion.com//AT
CALSCALE:GREGORIAN
BEGIN:VEVENT
DTSTART:20260507T113600
DTEND:20260507T113630
LOCATION:Gewerbepark 13, 8562 Mooskirchen
DTSTAMP:20260423T165938
SUMMARY:MyAuktion: Ablauf Artikel Nr. 837268 Joseph Bluse 
URL;VALUE=URI:https://www.myauktion.com/versteigerung7655-position2442249-joseph-bluse.php
DESCRIPTION:Größe 38
UID:myauktion-7655-2442249
BEGIN:VALARM
ACTION:DISPLAY
DESCRIPTION:Größe 38
TRIGGER:-PT10M
END:VALARM
END:VEVENT
END:VCALENDAR