BEGIN:VCALENDAR
VERSION:2.0
PRODID:-//Goldgrube//myauktion.com//AT
CALSCALE:GREGORIAN
BEGIN:VEVENT
DTSTART:20260507T114500
DTEND:20260507T114530
LOCATION:Gewerbepark 13, 8562 Mooskirchen
DTSTAMP:20260423T165939
SUMMARY:MyAuktion: Ablauf Artikel Nr. 837277 Splash Bluse
URL;VALUE=URI:https://www.myauktion.com/versteigerung7655-position2442258-splash-bluse.php
DESCRIPTION:Größe 40
UID:myauktion-7655-2442258
BEGIN:VALARM
ACTION:DISPLAY
DESCRIPTION:Größe 40
TRIGGER:-PT10M
END:VALARM
END:VEVENT
END:VCALENDAR