BEGIN:VCALENDAR
VERSION:2.0
PRODID:-//Goldgrube//myauktion.com//AT
CALSCALE:GREGORIAN
BEGIN:VEVENT
DTSTART:20260507T114600
DTEND:20260507T114630
LOCATION:Gewerbepark 13, 8562 Mooskirchen
DTSTAMP:20260423T153050
SUMMARY:MyAuktion: Ablauf Artikel Nr. 837278 The north Face Fontanales Jacke
URL;VALUE=URI:https://www.myauktion.com/versteigerung7655-position2442259-the-north-face-fontanales-jacke.php
DESCRIPTION:Größe S
UID:myauktion-7655-2442259
BEGIN:VALARM
ACTION:DISPLAY
DESCRIPTION:Größe S
TRIGGER:-PT10M
END:VALARM
END:VEVENT
END:VCALENDAR