BEGIN:VCALENDAR
VERSION:2.0
PRODID:-//Goldgrube//myauktion.com//AT
CALSCALE:GREGORIAN
BEGIN:VEVENT
DTSTART:20260507T114800
DTEND:20260507T114830
LOCATION:Gewerbepark 13, 8562 Mooskirchen
DTSTAMP:20260423T165940
SUMMARY:MyAuktion: Ablauf Artikel Nr. 837280 Heine Bluse
URL;VALUE=URI:https://www.myauktion.com/versteigerung7655-position2442261-heine-bluse.php
DESCRIPTION:Größe 40
UID:myauktion-7655-2442261
BEGIN:VALARM
ACTION:DISPLAY
DESCRIPTION:Größe 40
TRIGGER:-PT10M
END:VALARM
END:VEVENT
END:VCALENDAR