BEGIN:VCALENDAR
VERSION:2.0
PRODID:-//Goldgrube//myauktion.com//AT
CALSCALE:GREGORIAN
BEGIN:VEVENT
DTSTART:20260507T115200
DTEND:20260507T115230
LOCATION:Gewerbepark 13, 8562 Mooskirchen
DTSTAMP:20260423T165945
SUMMARY:MyAuktion: Ablauf Artikel Nr. 837284 Arket Shirt
URL;VALUE=URI:https://www.myauktion.com/versteigerung7655-position2442265-arket-shirt.php
DESCRIPTION:Größe S
UID:myauktion-7655-2442265
BEGIN:VALARM
ACTION:DISPLAY
DESCRIPTION:Größe S
TRIGGER:-PT10M
END:VALARM
END:VEVENT
END:VCALENDAR