BEGIN:VCALENDAR
VERSION:2.0
PRODID:-//Goldgrube//myauktion.com//AT
CALSCALE:GREGORIAN
BEGIN:VEVENT
DTSTART:20260507T115300
DTEND:20260507T115330
LOCATION:Gewerbepark 13, 8562 Mooskirchen
DTSTAMP:20260423T165940
SUMMARY:MyAuktion: Ablauf Artikel Nr. 837285 Hunkemöller Thong
URL;VALUE=URI:https://www.myauktion.com/versteigerung7655-position2442266-hunkemoeller-thong.php
DESCRIPTION:Größe S
UID:myauktion-7655-2442266
BEGIN:VALARM
ACTION:DISPLAY
DESCRIPTION:Größe S
TRIGGER:-PT10M
END:VALARM
END:VEVENT
END:VCALENDAR