BEGIN:VCALENDAR
VERSION:2.0
PRODID:-//Goldgrube//myauktion.com//AT
CALSCALE:GREGORIAN
BEGIN:VEVENT
DTSTART:20260507T115400
DTEND:20260507T115430
LOCATION:Gewerbepark 13, 8562 Mooskirchen
DTSTAMP:20260423T165944
SUMMARY:MyAuktion: Ablauf Artikel Nr. 837286 Organic basic Underwear 
URL;VALUE=URI:https://www.myauktion.com/versteigerung7655-position2442267-organic-basic-underwear.php
DESCRIPTION:Größe L
UID:myauktion-7655-2442267
BEGIN:VALARM
ACTION:DISPLAY
DESCRIPTION:Größe L
TRIGGER:-PT10M
END:VALARM
END:VEVENT
END:VCALENDAR