BEGIN:VCALENDAR
VERSION:2.0
PRODID:-//Goldgrube//myauktion.com//AT
CALSCALE:GREGORIAN
BEGIN:VEVENT
DTSTART:20260507T120000
DTEND:20260507T120030
LOCATION:Gewerbepark 13, 8562 Mooskirchen
DTSTAMP:20260423T165946
SUMMARY:MyAuktion: Ablauf Artikel Nr. 837292 Cos Shirt 
URL;VALUE=URI:https://www.myauktion.com/versteigerung7655-position2442273-cos-shirt.php
DESCRIPTION:Größe M
UID:myauktion-7655-2442273
BEGIN:VALARM
ACTION:DISPLAY
DESCRIPTION:Größe M
TRIGGER:-PT10M
END:VALARM
END:VEVENT
END:VCALENDAR