BEGIN:VCALENDAR
VERSION:2.0
PRODID:-//Goldgrube//myauktion.com//AT
CALSCALE:GREGORIAN
BEGIN:VEVENT
DTSTART:20260507T120100
DTEND:20260507T120130
LOCATION:Gewerbepark 13, 8562 Mooskirchen
DTSTAMP:20260423T132405
SUMMARY:MyAuktion: Ablauf Artikel Nr. 837293 Ralph Lauren Bluse
URL;VALUE=URI:https://www.myauktion.com/versteigerung7655-position2442274-ralph-lauren-bluse.php
DESCRIPTION:Größe 2
UID:myauktion-7655-2442274
BEGIN:VALARM
ACTION:DISPLAY
DESCRIPTION:Größe 2
TRIGGER:-PT10M
END:VALARM
END:VEVENT
END:VCALENDAR