BEGIN:VCALENDAR
VERSION:2.0
PRODID:-//Goldgrube//myauktion.com//AT
CALSCALE:GREGORIAN
BEGIN:VEVENT
DTSTART:20260507T120200
DTEND:20260507T120230
LOCATION:Gewerbepark 13, 8562 Mooskirchen
DTSTAMP:20260423T115831
SUMMARY:MyAuktion: Ablauf Artikel Nr. 837294 S Oliver Pullover 
URL;VALUE=URI:https://www.myauktion.com/versteigerung7655-position2442275-s-oliver-pullover.php
DESCRIPTION:Größe 36
UID:myauktion-7655-2442275
BEGIN:VALARM
ACTION:DISPLAY
DESCRIPTION:Größe 36
TRIGGER:-PT10M
END:VALARM
END:VEVENT
END:VCALENDAR