BEGIN:VCALENDAR
VERSION:2.0
PRODID:-//Goldgrube//myauktion.com//AT
CALSCALE:GREGORIAN
BEGIN:VEVENT
DTSTART:20260507T120500
DTEND:20260507T120530
LOCATION:Gewerbepark 13, 8562 Mooskirchen
DTSTAMP:20260423T165942
SUMMARY:MyAuktion: Ablauf Artikel Nr. 837297 Stradivarius Kleid 
URL;VALUE=URI:https://www.myauktion.com/versteigerung7655-position2442278-stradivarius-kleid.php
DESCRIPTION:Größe S
UID:myauktion-7655-2442278
BEGIN:VALARM
ACTION:DISPLAY
DESCRIPTION:Größe S
TRIGGER:-PT10M
END:VALARM
END:VEVENT
END:VCALENDAR