BEGIN:VCALENDAR
VERSION:2.0
PRODID:-//Goldgrube//myauktion.com//AT
CALSCALE:GREGORIAN
BEGIN:VEVENT
DTSTART:20260507T120700
DTEND:20260507T120730
LOCATION:Gewerbepark 13, 8562 Mooskirchen
DTSTAMP:20260423T153107
SUMMARY:MyAuktion: Ablauf Artikel Nr. 837299 Street one Schlupfrock 
URL;VALUE=URI:https://www.myauktion.com/versteigerung7655-position2442280-street-one-schlupfrock.php
DESCRIPTION:Größe 34
UID:myauktion-7655-2442280
BEGIN:VALARM
ACTION:DISPLAY
DESCRIPTION:Größe 34
TRIGGER:-PT10M
END:VALARM
END:VEVENT
END:VCALENDAR