BEGIN:VCALENDAR
VERSION:2.0
PRODID:-//Goldgrube//myauktion.com//AT
CALSCALE:GREGORIAN
BEGIN:VEVENT
DTSTART:20260507T121100
DTEND:20260507T121130
LOCATION:Gewerbepark 13, 8562 Mooskirchen
DTSTAMP:20260423T165944
SUMMARY:MyAuktion: Ablauf Artikel Nr. 837303 Lawrence Grey Shorts
URL;VALUE=URI:https://www.myauktion.com/versteigerung7655-position2442284-lawrence-grey-shorts.php
DESCRIPTION:Größe 3XL
UID:myauktion-7655-2442284
BEGIN:VALARM
ACTION:DISPLAY
DESCRIPTION:Größe 3XL
TRIGGER:-PT10M
END:VALARM
END:VEVENT
END:VCALENDAR