BEGIN:VCALENDAR
VERSION:2.0
PRODID:-//Goldgrube//myauktion.com//AT
CALSCALE:GREGORIAN
BEGIN:VEVENT
DTSTART:20260507T121300
DTEND:20260507T121330
LOCATION:Gewerbepark 13, 8562 Mooskirchen
DTSTAMP:20260423T165945
SUMMARY:MyAuktion: Ablauf Artikel Nr. 837305 H&M Oberteil 
URL;VALUE=URI:https://www.myauktion.com/versteigerung7655-position2442286-h-38m-oberteil.php
DESCRIPTION:Größe M
UID:myauktion-7655-2442286
BEGIN:VALARM
ACTION:DISPLAY
DESCRIPTION:Größe M
TRIGGER:-PT10M
END:VALARM
END:VEVENT
END:VCALENDAR