BEGIN:VCALENDAR
VERSION:2.0
PRODID:-//Goldgrube//myauktion.com//AT
CALSCALE:GREGORIAN
BEGIN:VEVENT
DTSTART:20260507T121400
DTEND:20260507T121430
LOCATION:Gewerbepark 13, 8562 Mooskirchen
DTSTAMP:20260423T165945
SUMMARY:MyAuktion: Ablauf Artikel Nr. 837306 Madeleine Schlupfhose 
URL;VALUE=URI:https://www.myauktion.com/versteigerung7655-position2442287-madeleine-schlupfhose.php
DESCRIPTION:Größe 42
UID:myauktion-7655-2442287
BEGIN:VALARM
ACTION:DISPLAY
DESCRIPTION:Größe 42
TRIGGER:-PT10M
END:VALARM
END:VEVENT
END:VCALENDAR