BEGIN:VCALENDAR
VERSION:2.0
PRODID:-//Goldgrube//myauktion.com//AT
CALSCALE:GREGORIAN
BEGIN:VEVENT
DTSTART:20260505T094100
DTEND:20260505T094130
LOCATION:Gewerbepark 13, 8562 Mooskirchen
DTSTAMP:20260421T173936
SUMMARY:MyAuktion: Ablauf Artikel Nr. 956855 My Protein Shaker 600ml
URL;VALUE=URI:https://www.myauktion.com/versteigerung7652-position2442293-my-protein-shaker-600ml.php
DESCRIPTION:
UID:myauktion-7652-2442293
BEGIN:VALARM
ACTION:DISPLAY
DESCRIPTION:
TRIGGER:-PT10M
END:VALARM
END:VEVENT
END:VCALENDAR