BEGIN:VCALENDAR
VERSION:2.0
PRODID:-//Goldgrube//myauktion.com//AT
CALSCALE:GREGORIAN
BEGIN:VEVENT
DTSTART:20260505T094200
DTEND:20260505T094230
LOCATION:Gewerbepark 13, 8562 Mooskirchen
DTSTAMP:20260421T173934
SUMMARY:MyAuktion: Ablauf Artikel Nr. 956856 Athlyt Hanteln je 6kg 
URL;VALUE=URI:https://www.myauktion.com/versteigerung7652-position2442294-athlyt-hanteln-je-6kg.php
DESCRIPTION:
UID:myauktion-7652-2442294
BEGIN:VALARM
ACTION:DISPLAY
DESCRIPTION:
TRIGGER:-PT10M
END:VALARM
END:VEVENT
END:VCALENDAR