BEGIN:VCALENDAR
VERSION:2.0
PRODID:-//Goldgrube//myauktion.com//AT
CALSCALE:GREGORIAN
BEGIN:VEVENT
DTSTART:20260505T094900
DTEND:20260505T094930
LOCATION:Gewerbepark 13, 8562 Mooskirchen
DTSTAMP:20260421T173936
SUMMARY:MyAuktion: Ablauf Artikel Nr. 956858 Greatest hits Glass markers 
URL;VALUE=URI:https://www.myauktion.com/versteigerung7652-position2442297-greatest-hits-glass-markers.php
DESCRIPTION:
UID:myauktion-7652-2442297
BEGIN:VALARM
ACTION:DISPLAY
DESCRIPTION:
TRIGGER:-PT10M
END:VALARM
END:VEVENT
END:VCALENDAR