BEGIN:VCALENDAR
VERSION:2.0
PRODID:-//Goldgrube//myauktion.com//AT
CALSCALE:GREGORIAN
BEGIN:VEVENT
DTSTART:20260505T095400
DTEND:20260505T095430
LOCATION:Gewerbepark 13, 8562 Mooskirchen
DTSTAMP:20260421T175852
SUMMARY:MyAuktion: Ablauf Artikel Nr. 956860 Joiride Carease 100ml 
URL;VALUE=URI:https://www.myauktion.com/versteigerung7652-position2442299-joiride-carease-100ml.php
DESCRIPTION:
UID:myauktion-7652-2442299
BEGIN:VALARM
ACTION:DISPLAY
DESCRIPTION:
TRIGGER:-PT10M
END:VALARM
END:VEVENT
END:VCALENDAR