BEGIN:VCALENDAR
VERSION:2.0
PRODID:-//Goldgrube//myauktion.com//AT
CALSCALE:GREGORIAN
BEGIN:VEVENT
DTSTART:20260505T095500
DTEND:20260505T095530
LOCATION:Gewerbepark 13, 8562 Mooskirchen
DTSTAMP:20260421T175851
SUMMARY:MyAuktion: Ablauf Artikel Nr. 956861 Quooker Cube CO2 Cylinders 4Stk 
URL;VALUE=URI:https://www.myauktion.com/versteigerung7652-position2442300-quooker-cube-co2-cylinders-4stk.php
DESCRIPTION:Leere Flaschen!! 
UID:myauktion-7652-2442300
BEGIN:VALARM
ACTION:DISPLAY
DESCRIPTION:Leere Flaschen!! 
TRIGGER:-PT10M
END:VALARM
END:VEVENT
END:VCALENDAR