BEGIN:VCALENDAR
VERSION:2.0
PRODID:-//Goldgrube//myauktion.com//AT
CALSCALE:GREGORIAN
BEGIN:VEVENT
DTSTART:20260505T095600
DTEND:20260505T095630
LOCATION:Gewerbepark 13, 8562 Mooskirchen
DTSTAMP:20260421T175850
SUMMARY:MyAuktion: Ablauf Artikel Nr. 956862 The Grainfather G40 Brewing System laut Foto 
URL;VALUE=URI:https://www.myauktion.com/versteigerung7652-position2442303-the-grainfather-g40-brewing-system-laut-foto.php
DESCRIPTION:
UID:myauktion-7652-2442303
BEGIN:VALARM
ACTION:DISPLAY
DESCRIPTION:
TRIGGER:-PT10M
END:VALARM
END:VEVENT
END:VCALENDAR