BEGIN:VCALENDAR
VERSION:2.0
PRODID:-//Goldgrube//myauktion.com//AT
CALSCALE:GREGORIAN
BEGIN:VEVENT
DTSTART:20260505T095700
DTEND:20260505T095730
LOCATION:Gewerbepark 13, 8562 Mooskirchen
DTSTAMP:20260421T175851
SUMMARY:MyAuktion: Ablauf Artikel Nr. 956863 Lumesso LED outdoor stars 2tlg. 477979002 
URL;VALUE=URI:https://www.myauktion.com/versteigerung7652-position2442305-lumesso-led-outdoor-stars-2tlg-477979002.php
DESCRIPTION:
UID:myauktion-7652-2442305
BEGIN:VALARM
ACTION:DISPLAY
DESCRIPTION:
TRIGGER:-PT10M
END:VALARM
END:VEVENT
END:VCALENDAR