BEGIN:VCALENDAR
VERSION:2.0
PRODID:-//Goldgrube//myauktion.com//AT
CALSCALE:GREGORIAN
BEGIN:VEVENT
DTSTART:20260505T112100
DTEND:20260505T112130
LOCATION:Gewerbepark 13, 8562 Mooskirchen
DTSTAMP:20260421T191051
SUMMARY:MyAuktion: Ablauf Artikel Nr. 957111 Korb mit Schriftzug "Provence"
URL;VALUE=URI:https://www.myauktion.com/versteigerung7652-position2442311-korb-mit-schriftzug-34provence-34.php
DESCRIPTION:Ca 39×28 cm, gebraucht
UID:myauktion-7652-2442311
BEGIN:VALARM
ACTION:DISPLAY
DESCRIPTION:Ca 39×28 cm, gebraucht
TRIGGER:-PT10M
END:VALARM
END:VEVENT
END:VCALENDAR