BEGIN:VCALENDAR
VERSION:2.0
PRODID:-//Goldgrube//myauktion.com//AT
CALSCALE:GREGORIAN
BEGIN:VEVENT
DTSTART:20260505T091600
DTEND:20260505T091630
LOCATION:Gewerbepark 13, 8562 Mooskirchen
DTSTAMP:20260421T173933
SUMMARY:MyAuktion: Ablauf Artikel Nr. 955798 Joybos Dein Bester Helfer Water Drop Spinning mop 
URL;VALUE=URI:https://www.myauktion.com/versteigerung7652-position2442312-joybos-dein-bester-helfer-water-drop-spinning-mop.php
DESCRIPTION:
UID:myauktion-7652-2442312
BEGIN:VALARM
ACTION:DISPLAY
DESCRIPTION:
TRIGGER:-PT10M
END:VALARM
END:VEVENT
END:VCALENDAR