BEGIN:VCALENDAR
VERSION:2.0
PRODID:-//Goldgrube//myauktion.com//AT
CALSCALE:GREGORIAN
BEGIN:VEVENT
DTSTART:20260505T112200
DTEND:20260505T112230
LOCATION:Gewerbepark 13, 8562 Mooskirchen
DTSTAMP:20260421T191050
SUMMARY:MyAuktion: Ablauf Artikel Nr. 957112 Silonn Slim01B Eismaschine
URL;VALUE=URI:https://www.myauktion.com/versteigerung7652-position2442315-silonn-slim01b-eismaschine.php
DESCRIPTION:Gebraucht, Seriennummer: 250100348
UID:myauktion-7652-2442315
BEGIN:VALARM
ACTION:DISPLAY
DESCRIPTION:Gebraucht, Seriennummer: 250100348
TRIGGER:-PT10M
END:VALARM
END:VEVENT
END:VCALENDAR